BEGIN:VCALENDAR
VERSION:2.0
PRODID:-//hacksw/handcal//NONSGML v1.0//EN
BEGIN:VEVENT
SUMMARY:✈️ Championnat : DM2 - CS LEROY SOMER CHAMPNIERS BASKET
UID:89011a5b-263f-4a17-920f-fedfbf1f3796
DTSTART:20260530T220000Z
DTEND:20260531T220000Z
LOCATION:Localisation   
CATEGORIES:Sportif
STATUS:
URL;VALUE=URI:https://ruellebasketclub.sportsregions.fr/evenements/2026/05/31/championnat-dm2-cs-leroy-somer-champniers-basket-2426851
END:VEVENT
END:VCALENDAR
