BEGIN:VCALENDAR
VERSION:2.0
PRODID:-//hacksw/handcal//NONSGML v1.0//EN
BEGIN:VEVENT
SUMMARY:🏠 Championnat : PRF - BARBEZIEUX BASKET BALL
UID:60b509ff-505f-4693-a117-cb6fd19bbb08
DTSTART:20260530T160000Z
DTEND:20260530T180000Z
LOCATION:Localisation   
CATEGORIES:Sportif
STATUS:
URL;VALUE=URI:https://ruellebasketclub.sportsregions.fr/evenements/2026/05/30/championnat-prf-barbezieux-basket-ball-2376486
END:VEVENT
END:VCALENDAR
