BEGIN:VCALENDAR
VERSION:2.0
PRODID:-//hacksw/handcal//NONSGML v1.0//EN
BEGIN:VEVENT
SUMMARY:✈️ Championnat : DM1 - ANGOULEME BASKET CLUB - 2
UID:ffa9d650-dae5-4291-aca9-3f3cb0f6c2cf
DTSTART:20260530T170000Z
DTEND:20260530T190000Z
LOCATION:Localisation   
CATEGORIES:Sportif
STATUS:
URL;VALUE=URI:https://ruellebasketclub.sportsregions.fr/evenements/2026/05/30/championnat-dm1-angouleme-basket-club-2-2426845
END:VEVENT
END:VCALENDAR
