BEGIN:VCALENDAR
VERSION:2.0
PRODID:-//hacksw/handcal//NONSGML v1.0//EN
BEGIN:VEVENT
SUMMARY:✈️ Championnat : U18 - H - REVEIL SAINT SORNIN
UID:9b1a737d-e504-4dea-b47e-700a850f8061
DTSTART:20260510T110000Z
DTEND:20260510T130000Z
LOCATION:Localisation   
CATEGORIES:Sportif
STATUS:
URL;VALUE=URI:https://ruellebasketclub.sportsregions.fr/evenements/2026/05/10/championnat-u18-h-reveil-saint-sornin-2377063
END:VEVENT
END:VCALENDAR
