BEGIN:VCALENDAR
VERSION:2.0
PRODID:-//hacksw/handcal//NONSGML v1.0//EN
BEGIN:VEVENT
SUMMARY:🏠 Championnat : DM2 - BARBEZIEUX BASKET BALL - 2
UID:4ba1f661-38ec-4747-addd-539c441e869b
DTSTART:20260508T220000Z
DTEND:20260509T220000Z
LOCATION:Localisation   
CATEGORIES:Sportif
STATUS:
URL;VALUE=URI:https://ruellebasketclub.sportsregions.fr/evenements/2026/05/09/championnat-dm2-barbezieux-basket-ball-2-2426850
END:VEVENT
END:VCALENDAR
