BEGIN:VCALENDAR
VERSION:2.0
PRODID:-//hacksw/handcal//NONSGML v1.0//EN
BEGIN:VEVENT
SUMMARY:🏠 Championnat : U18 - H - JARNAC SPORTS
UID:e13444a6-f237-432d-a547-e86db478611b
DTSTART:20260503T120000Z
DTEND:20260503T140000Z
LOCATION:Localisation   
CATEGORIES:Sportif
STATUS:
URL;VALUE=URI:https://ruellebasketclub.sportsregions.fr/evenements/2026/05/03/championnat-u18-h-jarnac-sports-2377062
END:VEVENT
END:VCALENDAR
