BEGIN:VCALENDAR
VERSION:2.0
PRODID:-//hacksw/handcal//NONSGML v1.0//EN
BEGIN:VEVENT
SUMMARY:✈️ Championnat : DM1 - JARNAC SPORTS
UID:042cef1f-abaf-47fe-b00f-69df1106f24e
DTSTART:20260502T220000Z
DTEND:20260503T220000Z
LOCATION:Localisation   
CATEGORIES:Sportif
STATUS:
URL;VALUE=URI:https://ruellebasketclub.sportsregions.fr/evenements/2026/05/03/championnat-dm1-jarnac-sports-2426843
END:VEVENT
END:VCALENDAR
