BEGIN:VCALENDAR
VERSION:2.0
PRODID:-//hacksw/handcal//NONSGML v1.0//EN
BEGIN:VEVENT
SUMMARY:✈️ Championnat : RM3 - LIMOGES CSP - 2
UID:ced6e8d1-bde3-44a7-b2ab-bc2299932226
DTSTART:20260502T183000Z
DTEND:20260502T203000Z
LOCATION:Localisation   
CATEGORIES:Sportif
STATUS:
URL;VALUE=URI:https://ruellebasketclub.sportsregions.fr/evenements/2026/05/02/championnat-rm3-limoges-csp-2-2426839
END:VEVENT
END:VCALENDAR
