BEGIN:VCALENDAR
VERSION:2.0
PRODID:-//hacksw/handcal//NONSGML v1.0//EN
BEGIN:VEVENT
SUMMARY:🏠 Championnat : PRF - CSCS SAINT YRIEIX
UID:5d831f97-ccd5-4b9d-8862-65590df96488
DTSTART:20260425T160000Z
DTEND:20260425T180000Z
LOCATION:Localisation   
CATEGORIES:Sportif
STATUS:
URL;VALUE=URI:https://ruellebasketclub.sportsregions.fr/evenements/2026/04/25/championnat-prf-cscs-saint-yrieix-2376483
END:VEVENT
END:VCALENDAR
