BEGIN:VCALENDAR
VERSION:2.0
PRODID:-//hacksw/handcal//NONSGML v1.0//EN
BEGIN:VEVENT
SUMMARY:🏠 Championnat : DM1 - ANGOULEME BASKET CLUB - 2
UID:577601e8-7da8-47b8-8e9a-855d2fcfe145
DTSTART:20260425T180000Z
DTEND:20260425T200000Z
LOCATION:Localisation   
CATEGORIES:Sportif
STATUS:
URL;VALUE=URI:https://ruellebasketclub.sportsregions.fr/evenements/2026/04/25/championnat-dm1-angouleme-basket-club-2-2426842
END:VEVENT
END:VCALENDAR
